Workbook

Sheet Anderson
A1: ANDERSON
A2: Total Provisional
B5: Total | G5: COUNTY
A6: GOVERNOR/LT GOVERNOR | D6: CONGRESS DIST 7 | G6: SHERIFF
A7: Tom Tiffany/David Varnam | D7: Michael Alfonso (Republican) | G7: Mike Randall (Republican)
A8: (Republican) | G8: Logan Dahlbacka (write in)
A9: David Crowley/ Sarah Godlewski | D9: Fred Clark (Democratic) | G9: Write In
A10: (Democratic)
A11: Ieshuh Griffin (Write in) | D11: Write In | G11: CORONER
A12: Jamie Jo Carothers (write in) | G12: Write In
A13: David D. King (write in) | D13: STATE SENATOR DIST 25
A14: Chad Muellenberg (write in) | D14: Erik Severson (Republican) | G14: CLERK OF CIRCUIT COURT
A15: Mary Morgan ( Write in) | G15: Karen L. Ransanici (Democratic)
A16: Mark Grimek (write in) | D16: Charly Ray (Democratic)
A17: Brayden Donnelly (write in) | G17: Write In
A18: Write in | D18: Write In
D20: REP ASSEMBLY DIST 74 | G20: REFERENDUM
A21: ATTORNEY GENERAL | D21: Chanz Green (Republican) | G21: QUESTION 1:
A22: Eric Toney (Republican) | G22: Yes
D23: Paul Johnson (Democratic) | G23: No
A24: Josh Kaul (Democratic)
D25: Write In | G25: QUESTION 2:
A26: Write In | G26: Yes
G27: No
A28: SECRETARY OF STATE
A29: Jay Schroeder (Republican) | G29: QUESTION 3:
G30: Yes
A31: JoCasta Zamarripa (Democartic) | G31: No
A33: Pete Karas (Wisconsin Green)
A35: Write In
A37: STATE TREASURER
A38: John S. Leiber (Republican)
A40: Yee Leng Xiong (Democratic)
A42: Write In

Sheet Carey
A1: CAREY
A2: Total Provisional
B5: Total | G5: COUNTY
A6: GOVERNOR/LT GOVERNOR | D6: CONGRESS DIST 7 | G6: SHERIFF
A7: Tom Tiffany/David Varnam | D7: Michael Alfonso (Republican) | G7: Mike Randall (Republican)
A8: (Republican) | G8: Logan Dahlbacka (write in)
A9: David Crowley/ Sarah Godlewski | D9: Fred Clark (Democratic) | G9: Write In
A10: (Democratic)
A11: Ieshuh Griffin (Write in) | D11: Write In | G11: CORONER
A12: Jamie Jo Carothers (write in) | G12: Write In
A13: David D. King (write in) | D13: STATE SENATOR DIST 25
A14: Chad Muellenberg (write in) | D14: Erik Severson (Republican) | G14: CLERK OF CIRCUIT COURT
A15: Mary Morgan ( Write in) | G15: Karen L. Ransanici (Democratic)
A16: Mark Grimek (write in) | D16: Charly Ray (Democratic)
A17: Brayden Donnelly (write in) | G17: Write In
A18: Write in | D18: Write In
D20: REP ASSEMBLY DIST 74 | G20: REFERENDUM
A21: ATTORNEY GENERAL | D21: Chanz Green (Republican) | G21: QUESTION 1:
A22: Eric Toney (Republican) | G22: Yes
D23: Paul Johnson (Democratic) | G23: No
A24: Josh Kaul (Democratic)
D25: Write In | G25: QUESTION 2:
A26: Write In | G26: Yes
G27: No
A28: SECRETARY OF STATE
A29: Jay Schroeder (Republican) | G29: QUESTION 3:
G30: Yes
A31: JoCasta Zamarripa (Democartic) | G31: No
A33: Pete Karas (Wisconsin Green)
A35: Write In
A37: STATE TREASURER
A38: John S. Leiber (Republican)
A40: Yee Leng Xiong (Democratic)
A42: Write In

Sheet Gurney
A1: GURNEY
A2: Total Provisional
B5: Total | G5: COUNTY
A6: GOVERNOR/LT GOVERNOR | D6: CONGRESS DIST 7 | G6: SHERIFF
A7: Tom Tiffany/David Varnam | D7: Michael Alfonso (Republican) | G7: Mike Randall (Republican)
A8: (Republican) | G8: Logan Dahlbacka (write in)
A9: David Crowley/ Sarah Godlewski | D9: Fred Clark (Democratic) | G9: Write In
A10: (Democratic)
A11: Ieshuh Griffin (Write in) | D11: Write In | G11: CORONER
A12: Jamie Jo Carothers (write in) | G12: Write In
A13: David D. King (write in) | D13: STATE SENATOR DIST 25
A14: Chad Muellenberg (write in) | D14: Erik Severson (Republican) | G14: CLERK OF CIRCUIT COURT
A15: Mary Morgan ( Write in) | G15: Karen L. Ransanici (Democratic)
A16: Mark Grimek (write in) | D16: Charly Ray (Democratic)
A17: Brayden Donnelly (write in) | G17: Write In
A18: Write in | D18: Write In
D20: REP ASSEMBLY DIST 74 | G20: REFERENDUM
A21: ATTORNEY GENERAL | D21: Chanz Green (Republican) | G21: QUESTION 1:
A22: Eric Toney (Republican) | G22: Yes
D23: Paul Johnson (Democratic) | G23: No
A24: Josh Kaul (Democratic)
D25: Write In | G25: QUESTION 2:
A26: Write In | G26: Yes
G27: No
A28: SECRETARY OF STATE
A29: Jay Schroeder (Republican) | G29: QUESTION 3:
G30: Yes
A31: JoCasta Zamarripa (Democartic) | G31: No
A33: Pete Karas (Wisconsin Green)
A35: Write In
A37: STATE TREASURER
A38: John S. Leiber (Republican)
A40: Yee Leng Xiong (Democratic)
A42: Write In

Sheet Kimball
A1: KIMBALL
A2: Total Provisional
B5: Total | G5: COUNTY
A6: GOVERNOR/LT GOVERNOR | D6: CONGRESS DIST 7 | G6: SHERIFF
A7: Tom Tiffany/David Varnam | D7: Michael Alfonso (Republican) | G7: Mike Randall (Republican)
A8: (Republican) | G8: Logan Dahlbacka (write in)
A9: David Crowley/ Sarah Godlewski | D9: Fred Clark (Democratic) | G9: Write In
A10: (Democratic)
A11: Ieshuh Griffin (Write in) | D11: Write In | G11: CORONER
A12: Jamie Jo Carothers (write in) | G12: Write In
A13: David D. King (write in) | D13: STATE SENATOR DIST 25
A14: Chad Muellenberg (write in) | D14: Erik Severson (Republican) | G14: CLERK OF CIRCUIT COURT
A15: Mary Morgan ( Write in) | G15: Karen L. Ransanici (Democratic)
A16: Mark Grimek (write in) | D16: Charly Ray (Democratic)
A17: Brayden Donnelly (write in) | G17: Write In
A18: Write in | D18: Write In
D20: REP ASSEMBLY DIST 74 | G20: REFERENDUM
A21: ATTORNEY GENERAL | D21: Chanz Green (Republican) | G21: QUESTION 1:
A22: Eric Toney (Republican) | G22: Yes
D23: Paul Johnson (Democratic) | G23: No
A24: Josh Kaul (Democratic)
D25: Write In | G25: QUESTION 2:
A26: Write In | G26: Yes
G27: No
A28: SECRETARY OF STATE
A29: Jay Schroeder (Republican) | G29: QUESTION 3:
G30: Yes
A31: JoCasta Zamarripa (Democartic) | G31: No
A33: Pete Karas (Wisconsin Green)
A35: Write In
A37: STATE TREASURER
A38: John S. Leiber (Republican)
A40: Yee Leng Xiong (Democratic)
A42: Write In

Sheet Knight
A1: KNIGHT
A2: Total Provisional
B5: Total | G5: COUNTY
A6: GOVERNOR/LT GOVERNOR | D6: CONGRESS DIST 7 | G6: SHERIFF
A7: Tom Tiffany/David Varnam | D7: Michael Alfonso (Republican) | G7: Mike Randall (Republican)
A8: (Republican) | G8: Logan Dahlbacka (write in)
A9: David Crowley/ Sarah Godlewski | D9: Fred Clark (Democratic) | G9: Write In
A10: (Democratic)
A11: Ieshuh Griffin (Write in) | D11: Write In | G11: CORONER
A12: Jamie Jo Carothers (write in) | G12: Write In
A13: David D. King (write in) | D13: STATE SENATOR DIST 25
A14: Chad Muellenberg (write in) | D14: Erik Severson (Republican) | G14: CLERK OF CIRCUIT COURT
A15: Mary Morgan ( Write in) | G15: Karen L. Ransanici (Democratic)
A16: Mark Grimek (write in) | D16: Charly Ray (Democratic)
A17: Brayden Donnelly (write in) | G17: Write In
A18: Write in | D18: Write In
D20: REP ASSEMBLY DIST 74 | G20: REFERENDUM
A21: ATTORNEY GENERAL | D21: Chanz Green (Republican) | G21: QUESTION 1:
A22: Eric Toney (Republican) | G22: Yes
D23: Paul Johnson (Democratic) | G23: No
A24: Josh Kaul (Democratic)
D25: Write In | G25: QUESTION 2:
A26: Write In | G26: Yes
G27: No
A28: SECRETARY OF STATE
A29: Jay Schroeder (Republican) | G29: QUESTION 3:
G30: Yes
A31: JoCasta Zamarripa (Democartic) | G31: No
A33: Pete Karas (Wisconsin Green)
A35: Write In
A37: STATE TREASURER
A38: John S. Leiber (Republican)
A40: Yee Leng Xiong (Democratic)
A42: Write In

Sheet Hurley
A1: HURLEY
A2: Total Provisional
B5: Total | C5: W2 | D5: W3 | E5: W4 | F5: TOTAL | I5: W1 | J5: W2 | K5: W3 | L5: W4 | M5: TOTAL | O5: COUNTY | P5: W1 | Q5: W2 | R5: W3 | S5: W4 | T5: TOTAL
A6: GOVERNOR/LT GOVERNOR | H6: CONGRESS DIST 7 | O6: SHERIFF
A7: Tom Tiffany/David Varnam | H7: Michael Alfonso (Republican) | O7: Mike Randall (Republican)
A8: (Republican) | O8: Logan Dahlbacka (write in)
A9: David Crowley/ Sarah Godlewski | H9: Fred Clark (Democratic) | O9: Write In
A10: (Democratic)
A11: Ieshuh Griffin (Write in) | H11: Write In | O11: CORONER
A12: Jamie Jo Carothers (write in) | O12: Write In
A13: David D. King (write in) | H13: STATE SENATOR DIST 25
A14: Chad Muellenberg (write in) | H14: Erik Severson (Republican) | O14: CLERK OF CIRCUIT COURT
A15: Mary Morgan ( Write in) | O15: Karen L. Ransanici (Democratic)
A16: Mark Grimek (write in) | H16: Charly Ray (Democratic)
A17: Brayden Donnelly (write in) | O17: Write In
A18: Write in | H18: Write In
H20: REP ASSEMBLY DIST 74 | O20: REFERENDUM
A21: ATTORNEY GENERAL | H21: Chanz Green (Republican) | O21: QUESTION 1:
A22: Eric Toney (Republican) | O22: Yes
H23: Paul Johnson (Democratic) | O23: No
A24: Josh Kaul (Democratic)
H25: Write In | O25: QUESTION 2:
A26: Write In | O26: Yes
O27: No
A28: SECRETARY OF STATE
A29: Jay Schroeder (Republican) | O29: QUESTION 3:
O30: Yes
A31: JoCasta Zamarripa (Democartic) | O31: No
A33: Pete Karas (Wisconsin Green)
A35: Write In
A37: STATE TREASURER
A38: John S. Leiber (Republican)
A40: Yee Leng Xiong (Democratic)
A42: Write In

Sheet Mercer
A1: MERCER
A2: Total Provisional | B2: 0
B5: M1 | C5: M2 | D5: M3 | E5: TOTAL | H5: M1 | I5: M2 | J5: M3 | K5: TOTAL | M5: COUNTY | N5: M1 | O5: M2 | P5: M3 | Q5: TOTAL
A6: GOVERNOR/LT GOVERNOR | G6: CONGRESS DIST 7 | M6: SHERIFF
A7: Tom Tiffany/David Varnam | B7: 546 | C7: 52 | D7: 37 | E7: =SUM(B7:D7) -> 635 | G7: Michael Alfonso (Republican) | H7: 508 | I7: 51 | J7: 33 | K7: =SUM(H7:J7) -> 592 | M7: Mike Randall (Republican) | N7: 575 | O7: 68 | P7: 51 | Q7: =SUM(N7:P7) -> 694
A8: (Republican) | M8: Logan Dahlbacka (write in) | N8: 93 | O8: 13 | P8: 13 | Q8: =SUM(N8:P8) -> 119
A9: David Crowley/ Sarah Godlewski | B9: 269 | C9: 37 | D9: 33 | E9: =SUM(B9:D9) -> 339 | G9: Fred Clark (Democratic) | H9: 292 | I9: 37 | J9: 37 | K9: =SUM(H9:J9) -> 366 | M9: Write In | N9: 5 | P9: 2 | Q9: =SUM(N9:P9) -> 7
A10: (Democratic)
A11: Ieshuh Griffin (Write in) | E11: =SUM(B11:D11) -> 0 | G11: Write In | I11: 1 | K11: =SUM(H11:J11) -> 1 | M11: CORONER
A12: Jamie Jo Carothers (write in) | E12: =SUM(B12:D12) -> 0 | M12: Write In | N12: 151 | Q12: =SUM(N12:P12) -> 151
A13: David D. King (write in) | E13: =SUM(B13:D13) -> 0 | G13: STATE SENATOR DIST 25 | M13: Towne | N13: 139 | O13: 41 | P13: 31 | Q13: =SUM(N13:P13) -> 211
A14: Chad Muellenberg (write in) | E14: =SUM(B14:D14) -> 0 | G14: Erik Severson (Republican) | H14: 523 | I14: 52 | J14: 38 | K14: =SUM(H14:J14) -> 613 | M14: Swenenger | O14: 1 | Q14: =SUM(N14:P14) -> 1
A15: Mary Morgan ( Write in) | E15: =SUM(B15:D15) -> 0 | M15: Jon Olson | P15: 1 | Q15: =SUM(N15:P15) -> 1
A16: Mark Grimek (write in) | E16: =SUM(B16:D16) -> 0 | G16: Charly Ray (Democratic) | H16: 282 | I16: 37 | J16: 32 | K16: =SUM(H16:J16) -> 351 | M16: Richards | N16: 1 | Q16: =SUM(N16:P16) -> 1
A17: Brayden Donnelly (write in) | E17: =SUM(B17:D17) -> 0 | M17: Kusek | N17: 1 | Q17: =SUM(N17:P17) -> 1
A18: Write in | E18: =SUM(B18:D18) -> 0 | G18: Write In | K18: =SUM(H18:J18) -> 0 | M18: Shackelton | N18: 1 | Q18: =SUM(N18:P18) -> 1
M19: Bowes | N19: 1 | Q19: =SUM(N19:P19) -> 1
G20: REP ASSEMBLY DIST 74 | M20: Illegible | N20: 1 | Q20: =SUM(N20:P20) -> 1
A21: ATTORNEY GENERAL | G21: Chanz Green (Republican) | H21: 526 | I21: 54 | J21: 35 | K21: =SUM(H21:J21) -> 615 | M21: Schmidt | N21: 1 | Q21: =SUM(N21:P21) -> 1
A22: Eric Toney (Republican) | B22: 524 | C22: 53 | D22: 34 | E22: =SUM(B22:D22) -> 611 | Q22: =SUM(N22:P22) -> 0
G23: Paul Johnson (Democratic) | H23: 277 | I23: 35 | J23: 35 | K23: =SUM(H23:J23) -> 347 | Q23: =SUM(N23:P23) -> 0
A24: Josh Kaul (Democratic) | B24: 280 | C24: 36 | D24: 36 | E24: =SUM(B24:D24) -> 352 | Q24: =SUM(N24:P24) -> 0
G25: Write In | K25: =SUM(H25:J25) -> 0 | M25: CLERK OF CIRCUIT COURT
A26: Write In | E26: =SUM(B26:D26) -> 0 | M26: Karen L. Ransanici (Democratic) | N26: 443 | O26: 61 | P26: 51 | Q26: =SUM(N26:P26) -> 555
A28: SECRETARY OF STATE | M28: Write In | N28: 17 | O28: 2 | P28: 1 | Q28: =SUM(N28:P28) -> 20
A29: Jay Schroeder (Republican) | B29: 526 | C29: 54 | D29: 35 | E29: =SUM(B29:D29) -> 615
A31: JoCasta Zamarripa (Democartic) | B31: 254 | C31: 33 | D31: 32 | E31: =SUM(B31:D31) -> 319 | M31: REFERENDUM
M32: QUESTION 1:
A33: Pete Karas (Wisconsin Green) | B33: 23 | C33: 2 | D33: 3 | E33: =SUM(B33:D33) -> 28 | M33: Yes | N33: 496 | O33: 49 | P33: 34 | Q33: =SUM(N33:P33) -> 579
M34: No | N34: 271 | O34: 36 | P34: 36 | Q34: =SUM(N34:P34) -> 343
A35: Write In | E35: =SUM(B35:D35) -> 0
M36: QUESTION 2:
A37: STATE TREASURER | M37: Yes | N37: 467 | O37: 44 | P37: 32 | Q37: =SUM(N37:P37) -> 543
A38: John S. Leiber (Republican) | B38: 547 | C38: 56 | D38: 39 | E38: =SUM(B38:D38) -> 642 | M38: No | N38: 309 | O38: 39 | P38: 38 | Q38: =SUM(N38:P38) -> 386
A40: Yee Leng Xiong (Democratic) | B40: 253 | C40: 33 | D40: 30 | E40: =SUM(B40:D40) -> 316 | M40: QUESTION 3:
M41: Yes | N41: 516 | O41: 53 | P41: 43 | Q41: =SUM(N41:P41) -> 612
A42: Write In | E42: =SUM(B42:D42) -> 0 | M42: No | N42: 253 | O42: 31 | P42: 26 | Q42: =SUM(N42:P42) -> 310

Sheet Montreal 
A1: MONTREAL
A2: Total Provisional
B5: Total | G5: COUNTY
A6: GOVERNOR/LT GOVERNOR | D6: CONGRESS DIST 7 | G6: SHERIFF
A7: Tom Tiffany/David Varnam | D7: Michael Alfonso (Republican) | G7: Mike Randall (Republican)
A8: (Republican) | G8: Logan Dahlbacka (write in)
A9: David Crowley/ Sarah Godlewski | D9: Fred Clark (Democratic) | G9: Write In
A10: (Democratic)
A11: Ieshuh Griffin (Write in) | D11: Write In | G11: CORONER
A12: Jamie Jo Carothers (write in) | G12: Write In
A13: David D. King (write in) | D13: STATE SENATOR DIST 25
A14: Chad Muellenberg (write in) | D14: Erik Severson (Republican) | G14: CLERK OF CIRCUIT COURT
A15: Mary Morgan ( Write in) | G15: Karen L. Ransanici (Democratic)
A16: Mark Grimek (write in) | D16: Charly Ray (Democratic)
A17: Brayden Donnelly (write in) | G17: Write In
A18: Write in | D18: Write In
D20: REP ASSEMBLY DIST 74 | G20: REFERENDUM
A21: ATTORNEY GENERAL | D21: Chanz Green (Republican) | G21: QUESTION 1:
A22: Eric Toney (Republican) | G22: Yes
D23: Paul Johnson (Democratic) | G23: No
A24: Josh Kaul (Democratic)
D25: Write In | G25: QUESTION 2:
A26: Write In | G26: Yes
G27: No
A28: SECRETARY OF STATE
A29: Jay Schroeder (Republican) | G29: QUESTION 3:
G30: Yes
A31: JoCasta Zamarripa (Democartic) | G31: No
A33: Pete Karas (Wisconsin Green)
A35: Write In
A37: STATE TREASURER
A38: John S. Leiber (Republican)
A40: Yee Leng Xiong (Democratic)
A42: Write In

Sheet Oma
A1: OMA
A2: Total Provisional
B5: Total | G5: COUNTY
A6: GOVERNOR/LT GOVERNOR | D6: CONGRESS DIST 7 | G6: SHERIFF
A7: Tom Tiffany/David Varnam | D7: Michael Alfonso (Republican) | G7: Mike Randall (Republican)
A8: (Republican) | G8: Logan Dahlbacka (write in)
A9: David Crowley/ Sarah Godlewski | D9: Fred Clark (Democratic) | G9: Write In
A10: (Democratic)
A11: Ieshuh Griffin (Write in) | D11: Write In | G11: CORONER
A12: Jamie Jo Carothers (write in) | G12: Write In
A13: David D. King (write in) | D13: STATE SENATOR DIST 25
A14: Chad Muellenberg (write in) | D14: Erik Severson (Republican) | G14: CLERK OF CIRCUIT COURT
A15: Mary Morgan ( Write in) | G15: Karen L. Ransanici (Democratic)
A16: Mark Grimek (write in) | D16: Charly Ray (Democratic)
A17: Brayden Donnelly (write in) | G17: Write In
A18: Write in | D18: Write In
D20: REP ASSEMBLY DIST 74 | G20: REFERENDUM
A21: ATTORNEY GENERAL | D21: Chanz Green (Republican) | G21: QUESTION 1:
A22: Eric Toney (Republican) | G22: Yes
D23: Paul Johnson (Democratic) | G23: No
A24: Josh Kaul (Democratic)
D25: Write In | G25: QUESTION 2:
A26: Write In | G26: Yes
G27: No
A28: SECRETARY OF STATE
A29: Jay Schroeder (Republican) | G29: QUESTION 3:
G30: Yes
A31: JoCasta Zamarripa (Democartic) | G31: No
A33: Pete Karas (Wisconsin Green)
A35: Write In
A37: STATE TREASURER
A38: John S. Leiber (Republican)
A40: Yee Leng Xiong (Democratic)
A42: Write In

Sheet Pence
A1: PENCE
A2: Total Provisional
B5: Total | G5: COUNTY
A6: GOVERNOR/LT GOVERNOR | D6: CONGRESS DIST 7 | G6: SHERIFF
A7: Tom Tiffany/David Varnam | D7: Michael Alfonso (Republican) | G7: Mike Randall (Republican)
A8: (Republican) | G8: Logan Dahlbacka (write in)
A9: David Crowley/ Sarah Godlewski | D9: Fred Clark (Democratic) | G9: Write In
A10: (Democratic)
A11: Ieshuh Griffin (Write in) | D11: Write In | G11: CORONER
A12: Jamie Jo Carothers (write in) | G12: Write In
A13: David D. King (write in) | D13: STATE SENATOR DIST 25
A14: Chad Muellenberg (write in) | D14: Erik Severson (Republican) | G14: CLERK OF CIRCUIT COURT
A15: Mary Morgan ( Write in) | G15: Karen L. Ransanici (Democratic)
A16: Mark Grimek (write in) | D16: Charly Ray (Democratic)
A17: Brayden Donnelly (write in) | G17: Write In
A18: Write in | D18: Write In
D20: REP ASSEMBLY DIST 74 | G20: REFERENDUM
A21: ATTORNEY GENERAL | D21: Chanz Green (Republican) | G21: QUESTION 1:
A22: Eric Toney (Republican) | G22: Yes
D23: Paul Johnson (Democratic) | G23: No
A24: Josh Kaul (Democratic)
D25: Write In | G25: QUESTION 2:
A26: Write In | G26: Yes
G27: No
A28: SECRETARY OF STATE
A29: Jay Schroeder (Republican) | G29: QUESTION 3:
G30: Yes
A31: JoCasta Zamarripa (Democartic) | G31: No
A33: Pete Karas (Wisconsin Green)
A35: Write In
A37: STATE TREASURER
A38: John S. Leiber (Republican)
A40: Yee Leng Xiong (Democratic)
A42: Write In

Sheet Saxon
A1: SAXON
A2: Total Provisional
B5: Total | G5: COUNTY
A6: GOVERNOR/LT GOVERNOR | D6: CONGRESS DIST 7 | G6: SHERIFF
A7: Tom Tiffany/David Varnam | D7: Michael Alfonso (Republican) | G7: Mike Randall (Republican)
A8: (Republican) | G8: Logan Dahlbacka (write in)
A9: David Crowley/ Sarah Godlewski | D9: Fred Clark (Democratic) | G9: Write In
A10: (Democratic)
A11: Ieshuh Griffin (Write in) | D11: Write In | G11: CORONER
A12: Jamie Jo Carothers (write in) | G12: Write In
A13: David D. King (write in) | D13: STATE SENATOR DIST 25
A14: Chad Muellenberg (write in) | D14: Erik Severson (Republican) | G14: CLERK OF CIRCUIT COURT
A15: Mary Morgan ( Write in) | G15: Karen L. Ransanici (Democratic)
A16: Mark Grimek (write in) | D16: Charly Ray (Democratic)
A17: Brayden Donnelly (write in) | G17: Write In
A18: Write in | D18: Write In
D20: REP ASSEMBLY DIST 74 | G20: REFERENDUM
A21: ATTORNEY GENERAL | D21: Chanz Green (Republican) | G21: QUESTION 1:
A22: Eric Toney (Republican) | G22: Yes
D23: Paul Johnson (Democratic) | G23: No
A24: Josh Kaul (Democratic)
D25: Write In | G25: QUESTION 2:
A26: Write In | G26: Yes
G27: No
A28: SECRETARY OF STATE
A29: Jay Schroeder (Republican) | G29: QUESTION 3:
G30: Yes
A31: JoCasta Zamarripa (Democartic) | G31: No
A33: Pete Karas (Wisconsin Green)
A35: Write In
A37: STATE TREASURER
A38: John S. Leiber (Republican)
A40: Yee Leng Xiong (Democratic)
A42: Write In

Sheet Sherman
A1: SHERMAN
A2: Total Provisional
B5: Total | G5: COUNTY
A6: GOVERNOR/LT GOVERNOR | D6: CONGRESS DIST 7 | G6: SHERIFF
A7: Tom Tiffany/David Varnam | D7: Michael Alfonso (Republican) | G7: Mike Randall (Republican)
A8: (Republican) | G8: Logan Dahlbacka (write in)
A9: David Crowley/ Sarah Godlewski | D9: Fred Clark (Democratic) | G9: Write In
A10: (Democratic)
A11: Ieshuh Griffin (Write in) | D11: Write In | G11: CORONER
A12: Jamie Jo Carothers (write in) | G12: Write In
A13: David D. King (write in) | D13: STATE SENATOR DIST 25
A14: Chad Muellenberg (write in) | D14: Erik Severson (Republican) | G14: CLERK OF CIRCUIT COURT
A15: Mary Morgan ( Write in) | G15: Karen L. Ransanici (Democratic)
A16: Mark Grimek (write in) | D16: Charly Ray (Democratic)
A17: Brayden Donnelly (write in) | G17: Write In
A18: Write in | D18: Write In
D20: REP ASSEMBLY DIST 74 | G20: REFERENDUM
A21: ATTORNEY GENERAL | D21: Chanz Green (Republican) | G21: QUESTION 1:
A22: Eric Toney (Republican) | G22: Yes
D23: Paul Johnson (Democratic) | G23: No
A24: Josh Kaul (Democratic)
D25: Write In | G25: QUESTION 2:
A26: Write In | G26: Yes
G27: No
A28: SECRETARY OF STATE
A29: Jay Schroeder (Republican) | G29: QUESTION 3:
G30: Yes
A31: JoCasta Zamarripa (Democartic) | G31: No
A33: Pete Karas (Wisconsin Green)
A35: Write In
A37: STATE TREASURER
A38: John S. Leiber (Republican)
A40: Yee Leng Xiong (Democratic)
A42: Write In

Sheet County
A1: COUNTY TOTALS
A2: Total Provisional
B5: Total | G5: COUNTY
A6: GOVERNOR/LT GOVERNOR | D6: CONGRESS DIST 7 | G6: SHERIFF
A7: Tom Tiffany/David Varnam | B7: =Anderson!B7+Carey!B7+Gurney!B7+Kimball!B7+Knight!B7+Hurley!F7+Mercer!E7+'Montreal '!B7+Oma!B7+Pence!B7+Saxon!B7+Sherman!B7 -> 635 | D7: Michael Alfonso (Republican) | E7: =Anderson!E7+Carey!E7+Gurney!E7+Kimball!E7+Knight!E7+Hurley!M7+Mercer!K7+'Montreal '!E7+Oma!E7+Pence!E7+Saxon!E7+Sherman!E7 -> 592 | G7: Mike Randall (Republican) | H7: =Anderson!H7+Carey!H7+Gurney!H7+Kimball!H7+Knight!H7+Hurley!T7+Mercer!Q7+'Montreal '!H7+Oma!H7+Pence!H7+Saxon!H7+Sherman!H7 -> 694
A8: (Republican) | B8: =Anderson!B8+Carey!B8+Gurney!B8+Kimball!B8+Knight!B8+Hurley!F8+Mercer!E8+'Montreal '!B8+Oma!B8+Pence!B8+Saxon!B8+Sherman!B8 -> 0 | G8: Logan Dahlbacka (write in) | H8: =Anderson!H8+Carey!H8+Gurney!H8+Kimball!H8+Knight!H8+Hurley!T8+Mercer!Q8+'Montreal '!H8+Oma!H8+Pence!H8+Saxon!H8+Sherman!H8 -> 119
A9: David Crowley/ Sarah Godlewski | B9: =Anderson!B9+Carey!B9+Gurney!B9+Kimball!B9+Knight!B9+Hurley!F9+Mercer!E9+'Montreal '!B9+Oma!B9+Pence!B9+Saxon!B9+Sherman!B9 -> 339 | D9: Fred Clark (Democratic) | E9: =Anderson!E9+Carey!E9+Gurney!E9+Kimball!E9+Knight!E9+Hurley!M9+Mercer!K9+'Montreal '!E9+Oma!E9+Pence!E9+Saxon!E9+Sherman!E9 -> 366 | G9: Write In | H9: =Anderson!H9+Carey!H9+Gurney!H9+Kimball!H9+Knight!H9+Hurley!T9+Mercer!Q9+'Montreal '!H9+Oma!H9+Pence!H9+Saxon!H9+Sherman!H9 -> 7
A10: (Democratic) | B10: =Anderson!B10+Carey!B10+Gurney!B10+Kimball!B10+Knight!B10+Hurley!F10+Mercer!E10+'Montreal '!B10+Oma!B10+Pence!B10+Saxon!B10+Sherman!B10 -> 0
A11: Ieshuh Griffin (Write in) | B11: =Anderson!B11+Carey!B11+Gurney!B11+Kimball!B11+Knight!B11+Hurley!F11+Mercer!E11+'Montreal '!B11+Oma!B11+Pence!B11+Saxon!B11+Sherman!B11 -> 0 | D11: Write In | E11: =Anderson!E11+Carey!E11+Gurney!E11+Kimball!E11+Knight!E11+Hurley!M11+Mercer!K11+'Montreal '!E11+Oma!E11+Pence!E11+Saxon!E11+Sherman!E11 -> 1 | G11: CORONER
A12: Jamie Jo Carothers (write in) | B12: =Anderson!B12+Carey!B12+Gurney!B12+Kimball!B12+Knight!B12+Hurley!F12+Mercer!E12+'Montreal '!B12+Oma!B12+Pence!B12+Saxon!B12+Sherman!B12 -> 0 | G12: Write In | H12: =Anderson!H12+Carey!H12+Gurney!H12+Kimball!H12+Knight!H12+Hurley!T12+Mercer!Q12+'Montreal '!H12+Oma!H12+Pence!H12+Saxon!H12+Sherman!H12 -> 151
A13: David D. King (write in) | B13: =Anderson!B13+Carey!B13+Gurney!B13+Kimball!B13+Knight!B13+Hurley!F13+Mercer!E13+'Montreal '!B13+Oma!B13+Pence!B13+Saxon!B13+Sherman!B13 -> 0 | D13: STATE SENATOR DIST 25
A14: Chad Muellenberg (write in) | B14: =Anderson!B14+Carey!B14+Gurney!B14+Kimball!B14+Knight!B14+Hurley!F14+Mercer!E14+'Montreal '!B14+Oma!B14+Pence!B14+Saxon!B14+Sherman!B14 -> 0 | D14: Erik Severson (Republican) | E14: =Anderson!E14+Carey!E14+Gurney!E14+Kimball!E14+Knight!E14+Hurley!M14+Mercer!K14+'Montreal '!E14+Oma!E14+Pence!E14+Saxon!E14+Sherman!E14 -> 613 | G14: CLERK OF CIRCUIT COURT
A15: Mary Morgan ( Write in) | B15: =Anderson!B15+Carey!B15+Gurney!B15+Kimball!B15+Knight!B15+Hurley!F15+Mercer!E15+'Montreal '!B15+Oma!B15+Pence!B15+Saxon!B15+Sherman!B15 -> 0 | G15: Karen L. Ransanici (Democratic) | H15: =Anderson!H15+Carey!H15+Gurney!H15+Kimball!H15+Knight!H15+Hurley!T15+Mercer!Q26+'Montreal '!H15+Oma!H15+Pence!H15+Saxon!H15+Sherman!H15 -> 555
A16: Mark Grimek (write in) | B16: =Anderson!B16+Carey!B16+Gurney!B16+Kimball!B16+Knight!B16+Hurley!F16+Mercer!E16+'Montreal '!B16+Oma!B16+Pence!B16+Saxon!B16+Sherman!B16 -> 0 | D16: Charly Ray (Democratic) | E16: =Anderson!E16+Carey!E16+Gurney!E16+Kimball!E16+Knight!E16+Hurley!M16+Mercer!K16+'Montreal '!E16+Oma!E16+Pence!E16+Saxon!E16+Sherman!E16 -> 351
A17: Brayden Donnelly (write in) | B17: =Anderson!B17+Carey!B17+Gurney!B17+Kimball!B17+Knight!B17+Hurley!F17+Mercer!E17+'Montreal '!B17+Oma!B17+Pence!B17+Saxon!B17+Sherman!B17 -> 0 | G17: Write In | H17: =Anderson!H17+Carey!H17+Gurney!H17+Kimball!H17+Knight!H17+Hurley!T17+Mercer!Q28+'Montreal '!H17+Oma!H17+Pence!H17+Saxon!H17+Sherman!H17 -> 20
A18: Write in | B18: =Anderson!B18+Carey!B18+Gurney!B18+Kimball!B18+Knight!B18+Hurley!F18+Mercer!E18+'Montreal '!B18+Oma!B18+Pence!B18+Saxon!B18+Sherman!B18 -> 0 | D18: Write In | E18: =Anderson!E18+Carey!E18+Gurney!E18+Kimball!E18+Knight!E18+Hurley!M18+Mercer!K18+'Montreal '!E18+Oma!E18+Pence!E18+Saxon!E18+Sherman!E18 -> 0
D20: REP ASSEMBLY DIST 74 | G20: REFERENDUM
A21: ATTORNEY GENERAL | D21: Chanz Green (Republican) | E21: =Anderson!E21+Carey!E21+Gurney!E21+Kimball!E21+Knight!E21+Hurley!M21+Mercer!K21+'Montreal '!E21+Oma!E21+Pence!E21+Saxon!E21+Sherman!E21 -> 615 | G21: QUESTION 1:
A22: Eric Toney (Republican) | B22: =Anderson!B22+Carey!B22+Gurney!B22+Kimball!B22+Knight!B22+Hurley!F22+Mercer!E22+'Montreal '!B22+Oma!B22+Pence!B22+Saxon!B22+Sherman!B22 -> 611 | G22: Yes | H22: =Anderson!H22+Carey!H22+Gurney!H22+Kimball!H22+Knight!H22+Hurley!T22+Mercer!Q33+'Montreal '!H22+Oma!H22+Pence!H22+Saxon!H22+Sherman!H22 -> 579
D23: Paul Johnson (Democratic) | E23: =Anderson!E23+Carey!E23+Gurney!E23+Kimball!E23+Knight!E23+Hurley!M23+Mercer!K23+'Montreal '!E23+Oma!E23+Pence!E23+Saxon!E23+Sherman!E23 -> 347 | G23: No | H23: =Anderson!H23+Carey!H23+Gurney!H23+Kimball!H23+Knight!H23+Hurley!T23+Mercer!Q34+'Montreal '!H23+Oma!H23+Pence!H23+Saxon!H23+Sherman!H23 -> 343
A24: Josh Kaul (Democratic) | B24: =Anderson!B24+Carey!B24+Gurney!B24+Kimball!B24+Knight!B24+Hurley!F24+Mercer!E24+'Montreal '!B24+Oma!B24+Pence!B24+Saxon!B24+Sherman!B24 -> 352
D25: Write In | E25: =Anderson!E25+Carey!E25+Gurney!E25+Kimball!E25+Knight!E25+Hurley!M25+Mercer!K25+'Montreal '!E25+Oma!E25+Pence!E25+Saxon!E25+Sherman!E25 -> 0 | G25: QUESTION 2:
A26: Write In | B26: =Anderson!B26+Carey!B26+Gurney!B26+Kimball!B26+Knight!B26+Hurley!F26+Mercer!E26+'Montreal '!B26+Oma!B26+Pence!B26+Saxon!B26+Sherman!B26 -> 0 | G26: Yes | H26: =Anderson!H26+Carey!H26+Gurney!H26+Kimball!H26+Knight!H26+Hurley!T26+Mercer!Q37+'Montreal '!H26+Oma!H26+Pence!H26+Saxon!H26+Sherman!H26 -> 543
G27: No | H27: =Anderson!H27+Carey!H27+Gurney!H27+Kimball!H27+Knight!H27+Hurley!T27+Mercer!Q38+'Montreal '!H27+Oma!H27+Pence!H27+Saxon!H27+Sherman!H27 -> 386
A28: SECRETARY OF STATE
A29: Jay Schroeder (Republican) | B29: =Anderson!B29+Carey!B29+Gurney!B29+Kimball!B29+Knight!B29+Hurley!F29+Mercer!E29+'Montreal '!B29+Oma!B29+Pence!B29+Saxon!B29+Sherman!B29 -> 615 | G29: QUESTION 3:
G30: Yes | H30: =Anderson!H30+Carey!H30+Gurney!H30+Kimball!H30+Knight!H30+Hurley!T30+Mercer!Q41+'Montreal '!H30+Oma!H30+Pence!H30+Saxon!H30+Sherman!H30 -> 612
A31: JoCasta Zamarripa (Democartic) | B31: =Anderson!B31+Carey!B31+Gurney!B31+Kimball!B31+Knight!B31+Hurley!F31+Mercer!E31+'Montreal '!B31+Oma!B31+Pence!B31+Saxon!B31+Sherman!B31 -> 319 | G31: No | H31: =Anderson!H31+Carey!H31+Gurney!H31+Kimball!H31+Knight!H31+Hurley!T31+Mercer!Q42+'Montreal '!H31+Oma!H31+Pence!H31+Saxon!H31+Sherman!H31 -> 310
A33: Pete Karas (Wisconsin Green) | B33: =Anderson!B33+Carey!B33+Gurney!B33+Kimball!B33+Knight!B33+Hurley!F33+Mercer!E33+'Montreal '!B33+Oma!B33+Pence!B33+Saxon!B33+Sherman!B33 -> 28
A35: Write In | B35: =Anderson!B35+Carey!B35+Gurney!B35+Kimball!B35+Knight!B35+Hurley!F35+Mercer!E35+'Montreal '!B35+Oma!B35+Pence!B35+Saxon!B35+Sherman!B35 -> 0
A37: STATE TREASURER
A38: John S. Leiber (Republican) | B38: =Anderson!B38+Carey!B38+Gurney!B38+Kimball!B38+Knight!B38+Hurley!F38+Mercer!E38+'Montreal '!B38+Oma!B38+Pence!B38+Saxon!B38+Sherman!B38 -> 642
A40: Yee Leng Xiong (Democratic) | B40: =Anderson!B40+Carey!B40+Gurney!B40+Kimball!B40+Knight!B40+Hurley!F40+Mercer!E40+'Montreal '!B40+Oma!B40+Pence!B40+Saxon!B40+Sherman!B40 -> 316
A42: Write In | B42: =Anderson!B42+Carey!B42+Gurney!B42+Kimball!B42+Knight!B42+Hurley!F42+Mercer!E42+'Montreal '!B42+Oma!B42+Pence!B42+Saxon!B42+Sherman!B42 -> 0
